BEGIN:VCALENDAR
VERSION:2.0
PRODID:-//Schützenverein &quot;Frohsinn&quot; Schönbrunn - ECPv6.15.20//NONSGML v1.0//EN
CALSCALE:GREGORIAN
METHOD:PUBLISH
X-ORIGINAL-URL:https://sv-frohsinn-schoenbrunn.de/wordpress
X-WR-CALDESC:Veranstaltungen für Schützenverein &quot;Frohsinn&quot; Schönbrunn
REFRESH-INTERVAL;VALUE=DURATION:PT1H
X-Robots-Tag:noindex
X-PUBLISHED-TTL:PT1H
BEGIN:VTIMEZONE
TZID:Europe/Berlin
BEGIN:DAYLIGHT
TZOFFSETFROM:+0100
TZOFFSETTO:+0200
TZNAME:CEST
DTSTART:20250330T010000
END:DAYLIGHT
BEGIN:STANDARD
TZOFFSETFROM:+0200
TZOFFSETTO:+0100
TZNAME:CET
DTSTART:20251026T010000
END:STANDARD
BEGIN:DAYLIGHT
TZOFFSETFROM:+0100
TZOFFSETTO:+0200
TZNAME:CEST
DTSTART:20260329T010000
END:DAYLIGHT
BEGIN:STANDARD
TZOFFSETFROM:+0200
TZOFFSETTO:+0100
TZNAME:CET
DTSTART:20261025T010000
END:STANDARD
BEGIN:DAYLIGHT
TZOFFSETFROM:+0100
TZOFFSETTO:+0200
TZNAME:CEST
DTSTART:20270328T010000
END:DAYLIGHT
BEGIN:STANDARD
TZOFFSETFROM:+0200
TZOFFSETTO:+0100
TZNAME:CET
DTSTART:20271031T010000
END:STANDARD
END:VTIMEZONE
BEGIN:VEVENT
DTSTART;TZID=Europe/Berlin:20260306T183000
DTEND;TZID=Europe/Berlin:20260306T220000
DTSTAMP:20260419T173349
CREATED:20251009T090944Z
LAST-MODIFIED:20260228T173913Z
UID:2004-1772821800-1772834400@sv-frohsinn-schoenbrunn.de
SUMMARY:21. Vereinsabend
DESCRIPTION:
URL:https://sv-frohsinn-schoenbrunn.de/wordpress/event/21-vereinsabend/
LOCATION:Vereinsstüberl Schönbrunn\, Schönbrunn\, Bayern\, 84427\, Deutschland
END:VEVENT
BEGIN:VEVENT
DTSTART;TZID=Europe/Berlin:20260313T183000
DTEND;TZID=Europe/Berlin:20260313T220000
DTSTAMP:20260419T173349
CREATED:20250222T170034Z
LAST-MODIFIED:20260223T133911Z
UID:2002-1773426600-1773439200@sv-frohsinn-schoenbrunn.de
SUMMARY:Freundschaftsschießen mit Armstorf "Unsrige"
DESCRIPTION:
URL:https://sv-frohsinn-schoenbrunn.de/wordpress/event/freundschaftsschiessen-mit-armstorf-unsrige/
LOCATION:Vereinsstüberl Schönbrunn\, Schönbrunn\, Bayern\, 84427\, Deutschland
END:VEVENT
BEGIN:VEVENT
DTSTART;TZID=Europe/Berlin:20260315T100000
DTEND;TZID=Europe/Berlin:20260315T123000
DTSTAMP:20260419T173349
CREATED:20260309T135943Z
LAST-MODIFIED:20260309T140103Z
UID:2148-1773568800-1773577800@sv-frohsinn-schoenbrunn.de
SUMMARY:Jugendtraining
DESCRIPTION:Für alle Jugendlichen mit Interesse an zusätzlichem Training
URL:https://sv-frohsinn-schoenbrunn.de/wordpress/event/jugendtraining/
LOCATION:Vereinsstüberl Schönbrunn\, Schönbrunn\, Bayern\, 84427\, Deutschland
END:VEVENT
BEGIN:VEVENT
DTSTART;VALUE=DATE:20260319
DTEND;VALUE=DATE:20260322
DTSTAMP:20260419T173349
CREATED:20251009T091224Z
LAST-MODIFIED:20260309T140535Z
UID:2008-1773878400-1774137599@sv-frohsinn-schoenbrunn.de
SUMMARY:Pokalschießen mit Kirchdorf und Moosham
DESCRIPTION:Einladung 56. Pokalschießen Kirchdorf-Moosham-Schönbrunn in Schönbrunn
URL:https://sv-frohsinn-schoenbrunn.de/wordpress/event/pokalschiessen-mit-kirchdorf-und-moosham/
LOCATION:Vereinsstüberl Schönbrunn\, Schönbrunn\, Bayern\, 84427\, Deutschland
END:VEVENT
BEGIN:VEVENT
DTSTART;VALUE=DATE:20260319
DTEND;VALUE=DATE:20260323
DTSTAMP:20260419T173349
CREATED:20260309T140307Z
LAST-MODIFIED:20260309T140420Z
UID:2150-1773878400-1774223999@sv-frohsinn-schoenbrunn.de
SUMMARY:Damenpreisschießen 2026 in Stauden
DESCRIPTION:
URL:https://sv-frohsinn-schoenbrunn.de/wordpress/event/damenpreisschiessen-2026-in-stauden/
END:VEVENT
BEGIN:VEVENT
DTSTART;TZID=Europe/Berlin:20260327T183000
DTEND;TZID=Europe/Berlin:20260327T230000
DTSTAMP:20260419T173349
CREATED:20251009T091334Z
LAST-MODIFIED:20260324T224242Z
UID:2010-1774636200-1774652400@sv-frohsinn-schoenbrunn.de
SUMMARY:Endschießen mit Vereinsmeisterehrung und Ostereierschießen
DESCRIPTION:
URL:https://sv-frohsinn-schoenbrunn.de/wordpress/event/endschiessen-mit-vereinsmeisterehrung-und-abschlussfeier/
LOCATION:Vereinsstüberl Schönbrunn\, Schönbrunn\, Bayern\, 84427\, Deutschland
END:VEVENT
END:VCALENDAR